BEGIN:VCALENDAR
VERSION:2.0
PRODID:-//Granite Falls Sportsmen&#039;s Club - ECPv6.5.0.1//NONSGML v1.0//EN
CALSCALE:GREGORIAN
METHOD:PUBLISH
X-WR-CALNAME:Granite Falls Sportsmen&#039;s Club
X-ORIGINAL-URL:https://granitefallsgunclub.com
X-WR-CALDESC:Events for Granite Falls Sportsmen&#039;s Club
REFRESH-INTERVAL;VALUE=DURATION:PT1H
X-Robots-Tag:noindex
X-PUBLISHED-TTL:PT1H
BEGIN:VTIMEZONE
TZID:UTC
BEGIN:STANDARD
TZOFFSETFROM:+0000
TZOFFSETTO:+0000
TZNAME:UTC
DTSTART:20240101T000000
END:STANDARD
END:VTIMEZONE
BEGIN:VEVENT
DTSTART;VALUE=DATE:20241208
DTEND;VALUE=DATE:20241209
DTSTAMP:20260422T205817
CREATED:20231216T042219Z
LAST-MODIFIED:20241123T031600Z
UID:160-1733616000-1733702399@granitefallsgunclub.com
SUMMARY:NSCA Registered Shoot - December 2024 (CANCELED)
DESCRIPTION:100 Target Sporting Clays – ($50)
URL:https://granitefallsgunclub.com/event/nsca-registered-shoot-december-2024/
LOCATION:Granite Falls Sportsmen’s Club\, 20319 Gun Club Rd\, Granite Falls\, WA\, 98252\, United States
END:VEVENT
END:VCALENDAR