BEGIN:VCALENDAR
VERSION:2.0
PRODID:-//Granite Falls Sportsmen&#039;s Club - ECPv6.5.0.1//NONSGML v1.0//EN
CALSCALE:GREGORIAN
METHOD:PUBLISH
X-ORIGINAL-URL:https://granitefallsgunclub.com
X-WR-CALDESC:Events for Granite Falls Sportsmen&#039;s Club
REFRESH-INTERVAL;VALUE=DURATION:PT1H
X-Robots-Tag:noindex
X-PUBLISHED-TTL:PT1H
BEGIN:VTIMEZONE
TZID:UTC
BEGIN:STANDARD
TZOFFSETFROM:+0000
TZOFFSETTO:+0000
TZNAME:UTC
DTSTART:20250101T000000
END:STANDARD
END:VTIMEZONE
BEGIN:VEVENT
DTSTART;TZID=UTC:20250530T190000
DTEND;TZID=UTC:20250530T220000
DTSTAMP:20260422T105552
CREATED:20250319T015111Z
LAST-MODIFIED:20250319T015111Z
UID:427-1748631600-1748642400@granitefallsgunclub.com
SUMMARY:Friday Night Trap & 5-Stand!
DESCRIPTION:Open to the Public and Members
URL:https://granitefallsgunclub.com/event/friday-night-trap-5-stand-7/
LOCATION:Granite Falls Sportsmen’s Club\, 20319 Gun Club Rd\, Granite Falls\, WA\, 98252\, United States
END:VEVENT
END:VCALENDAR