BEGIN:VCALENDAR
VERSION:2.0
PRODID:-//Granite Falls Sportsmen&#039;s Club - ECPv6.5.0.1//NONSGML v1.0//EN
CALSCALE:GREGORIAN
METHOD:PUBLISH
X-ORIGINAL-URL:https://granitefallsgunclub.com
X-WR-CALDESC:Events for Granite Falls Sportsmen&#039;s Club
REFRESH-INTERVAL;VALUE=DURATION:PT1H
X-Robots-Tag:noindex
X-PUBLISHED-TTL:PT1H
BEGIN:VTIMEZONE
TZID:UTC
BEGIN:STANDARD
TZOFFSETFROM:+0000
TZOFFSETTO:+0000
TZNAME:UTC
DTSTART:20250101T000000
END:STANDARD
END:VTIMEZONE
BEGIN:VEVENT
DTSTART;TZID=UTC:20250610T070000
DTEND;TZID=UTC:20250610T203000
DTSTAMP:20260421T160511
CREATED:20250302T002642Z
LAST-MODIFIED:20250602T125325Z
UID:247-1749538800-1749587400@granitefallsgunclub.com
SUMMARY:Club Membership/Board Meeting- Quarter 2
DESCRIPTION:2025 Quarter 2 -Granite Falls Sportsman’s Club \nMember/Board Meeting. \nAll club members welcome and encouraged to attend! \n20319 Gun Club Rd\, Granite Falls\, WA\, United States
URL:https://granitefallsgunclub.com/event/club-membership-board-meeting-quarter-2/
LOCATION:Granite Falls Sportsmen’s Club\, 20319 Gun Club Rd\, Granite Falls\, WA\, 98252\, United States
END:VEVENT
END:VCALENDAR