BEGIN:VCALENDAR
VERSION:2.0
PRODID:-//Granite Falls Sportsmen&#039;s Club - ECPv6.5.0.1//NONSGML v1.0//EN
CALSCALE:GREGORIAN
METHOD:PUBLISH
X-WR-CALNAME:Granite Falls Sportsmen&#039;s Club
X-ORIGINAL-URL:https://granitefallsgunclub.com
X-WR-CALDESC:Events for Granite Falls Sportsmen&#039;s Club
REFRESH-INTERVAL;VALUE=DURATION:PT1H
X-Robots-Tag:noindex
X-PUBLISHED-TTL:PT1H
BEGIN:VTIMEZONE
TZID:America/Los_Angeles
BEGIN:DAYLIGHT
TZOFFSETFROM:-0800
TZOFFSETTO:-0700
TZNAME:PDT
DTSTART:20250309T100000
END:DAYLIGHT
BEGIN:STANDARD
TZOFFSETFROM:-0700
TZOFFSETTO:-0800
TZNAME:PST
DTSTART:20251102T090000
END:STANDARD
END:VTIMEZONE
BEGIN:VEVENT
DTSTART;TZID=America/Los_Angeles:20250614T100000
DTEND;TZID=America/Los_Angeles:20250614T150000
DTSTAMP:20260421T083630
CREATED:20250611T210000Z
LAST-MODIFIED:20250611T223618Z
UID:472-1749895200-1749913200@granitefallsgunclub.com
SUMMARY:Trap Fields & Sporting Clays Open
DESCRIPTION:Open to the General Public and Members~ \nBring a friend! \n *Please look for any possible current Sporting Clays station closures\, posted at the club\, when you arrive. \nCourse etiquette reminder:  Please be courteous of other shooters and pick up your empty shells\, before leaving the station.  Thank you!
URL:https://granitefallsgunclub.com/event/trap-fields-and-sporting-clays-open-to-public-members-7/
LOCATION:WA
END:VEVENT
BEGIN:VEVENT
DTSTART;TZID=America/Los_Angeles:20250614T150000
DTEND;TZID=America/Los_Angeles:20250614T220000
DTSTAMP:20260421T083630
CREATED:20250611T234528Z
LAST-MODIFIED:20250612T000327Z
UID:500-1749913200-1749938400@granitefallsgunclub.com
SUMMARY:MEMBERS ONLY- Sporting Clays\, 3pm to Dusk
DESCRIPTION:“Club Members Only” Sporting Clays \n *Please look for any possible current Sporting Clays station closures\, posted at the club\, when you arrive. \nCourse etiquette reminder:  Please be courteous of other shooters and pick up your empty shells\, before leaving the station.  Thank you!
URL:https://granitefallsgunclub.com/event/members-only-sporting-clays-3/
LOCATION:Granite Falls Sportsmen’s Club\, 20319 Gun Club Rd\, Granite Falls\, WA\, 98252\, United States
END:VEVENT
END:VCALENDAR