BEGIN:VCALENDAR
VERSION:2.0
PRODID:-//Granite Falls Sportsmen&#039;s Club - ECPv6.5.0.1//NONSGML v1.0//EN
CALSCALE:GREGORIAN
METHOD:PUBLISH
X-ORIGINAL-URL:https://granitefallsgunclub.com
X-WR-CALDESC:Events for Granite Falls Sportsmen&#039;s Club
REFRESH-INTERVAL;VALUE=DURATION:PT1H
X-Robots-Tag:noindex
X-PUBLISHED-TTL:PT1H
BEGIN:VTIMEZONE
TZID:UTC
BEGIN:STANDARD
TZOFFSETFROM:+0000
TZOFFSETTO:+0000
TZNAME:UTC
DTSTART:20240101T000000
END:STANDARD
END:VTIMEZONE
BEGIN:VEVENT
DTSTART;VALUE=DATE:20240204
DTEND;VALUE=DATE:20240205
DTSTAMP:20260423T122648
CREATED:20231216T034914Z
LAST-MODIFIED:20231216T040816Z
UID:139-1707004800-1707091199@granitefallsgunclub.com
SUMMARY:NSCA Registered Shoot - February 2024
DESCRIPTION:100 Target Sporting Clays ($50)
URL:https://granitefallsgunclub.com/event/nsca-registered-shoot-february-2024/
LOCATION:WA
END:VEVENT
BEGIN:VEVENT
DTSTART;VALUE=DATE:20240217
DTEND;VALUE=DATE:20240218
DTSTAMP:20260423T122648
CREATED:20231216T033818Z
LAST-MODIFIED:20231216T035536Z
UID:132-1708128000-1708214399@granitefallsgunclub.com
SUMMARY:Trap Winter Series - February 2024
DESCRIPTION:50 Target Handicap – AM ($22) \n50 Target Handicap – PM ($22) \nSide Options Available
URL:https://granitefallsgunclub.com/event/trap-winter-series-february-2024/
LOCATION:Granite Falls Sportsmen’s Club\, 20319 Gun Club Rd\, Granite Falls\, WA\, 98252\, United States
END:VEVENT
END:VCALENDAR