BEGIN:VCALENDAR
VERSION:2.0
PRODID:-//Granite Falls Sportsmen&#039;s Club - ECPv6.5.0.1//NONSGML v1.0//EN
CALSCALE:GREGORIAN
METHOD:PUBLISH
X-ORIGINAL-URL:https://granitefallsgunclub.com
X-WR-CALDESC:Events for Granite Falls Sportsmen&#039;s Club
REFRESH-INTERVAL;VALUE=DURATION:PT1H
X-Robots-Tag:noindex
X-PUBLISHED-TTL:PT1H
BEGIN:VTIMEZONE
TZID:UTC
BEGIN:STANDARD
TZOFFSETFROM:+0000
TZOFFSETTO:+0000
TZNAME:UTC
DTSTART:20240101T000000
END:STANDARD
END:VTIMEZONE
BEGIN:VEVENT
DTSTART;VALUE=DATE:20240602
DTEND;VALUE=DATE:20240603
DTSTAMP:20260423T061231
CREATED:20231216T041114Z
LAST-MODIFIED:20231216T041114Z
UID:148-1717286400-1717372799@granitefallsgunclub.com
SUMMARY:NSCA Registered Shoot - June 2024
DESCRIPTION:100 Target Sporting Clays – ($50)
URL:https://granitefallsgunclub.com/event/nsca-registered-shoot-june-2024/
LOCATION:Granite Falls Sportsmen’s Club\, 20319 Gun Club Rd\, Granite Falls\, WA\, 98252\, United States
END:VEVENT
BEGIN:VEVENT
DTSTART;TZID=UTC:20240608T080000
DTEND;TZID=UTC:20240616T170000
DTSTAMP:20260423T061231
CREATED:20240530T132137Z
LAST-MODIFIED:20240530T132137Z
UID:204-1717833600-1718557200@granitefallsgunclub.com
SUMMARY:David Radulovich - Lessons
DESCRIPTION:David Radulovich will be hosting lessons at Granite Falls Sportsman’s Club June 8th – 16th. \nLesson pricing can be found on David’s website linked below.
URL:https://granitefallsgunclub.com/event/david-radulovich-lessons/
LOCATION:Granite Falls Sportsmen’s Club\, 20319 Gun Club Rd\, Granite Falls\, WA\, 98252\, United States
END:VEVENT
BEGIN:VEVENT
DTSTART;VALUE=DATE:20240622
DTEND;VALUE=DATE:20240623
DTSTAMP:20260423T061231
CREATED:20240420T212824Z
LAST-MODIFIED:20240420T212824Z
UID:197-1719014400-1719100799@granitefallsgunclub.com
SUMMARY:Trap Summer Series - June 22
DESCRIPTION:50 Target Handicap – AM ($22) \n50 Target Handicap – PM ($22) \nSide Options Available
URL:https://granitefallsgunclub.com/event/trap-summer-series-june-22/
LOCATION:Granite Falls Sportsmen’s Club\, 20319 Gun Club Rd\, Granite Falls\, WA\, 98252\, United States
END:VEVENT
END:VCALENDAR