BEGIN:VCALENDAR
VERSION:2.0
PRODID:-//Granite Falls Sportsmen&#039;s Club - ECPv6.5.0.1//NONSGML v1.0//EN
CALSCALE:GREGORIAN
METHOD:PUBLISH
X-ORIGINAL-URL:https://granitefallsgunclub.com
X-WR-CALDESC:Events for Granite Falls Sportsmen&#039;s Club
REFRESH-INTERVAL;VALUE=DURATION:PT1H
X-Robots-Tag:noindex
X-PUBLISHED-TTL:PT1H
BEGIN:VTIMEZONE
TZID:UTC
BEGIN:STANDARD
TZOFFSETFROM:+0000
TZOFFSETTO:+0000
TZNAME:UTC
DTSTART:20240101T000000
END:STANDARD
END:VTIMEZONE
BEGIN:VEVENT
DTSTART;VALUE=DATE:20241006
DTEND;VALUE=DATE:20241007
DTSTAMP:20260422T225114
CREATED:20231216T041920Z
LAST-MODIFIED:20231216T041920Z
UID:156-1728172800-1728259199@granitefallsgunclub.com
SUMMARY:NSCA Registered Shoot - October 2024
DESCRIPTION:100 Target Sporting Clays – ($50)
URL:https://granitefallsgunclub.com/event/nsca-registered-shoot-october-2024/
LOCATION:Granite Falls Sportsmen’s Club\, 20319 Gun Club Rd\, Granite Falls\, WA\, 98252\, United States
END:VEVENT
BEGIN:VEVENT
DTSTART;TZID=UTC:20241009T190000
DTEND;TZID=UTC:20241009T220000
DTSTAMP:20260422T225114
CREATED:20240120T170923Z
LAST-MODIFIED:20240120T170950Z
UID:181-1728500400-1728511200@granitefallsgunclub.com
SUMMARY:GFSC Club & Board Meeting - Q3 October 2024
DESCRIPTION:2024 Quarter 3 Club Member Meeting followed by Board of Directors Meeting.
URL:https://granitefallsgunclub.com/event/gfsc-club-board-meeting-october-2024/
LOCATION:Granite Falls Sportsmen’s Club\, 20319 Gun Club Rd\, Granite Falls\, WA\, 98252\, United States
END:VEVENT
END:VCALENDAR