BEGIN:VCALENDAR
VERSION:2.0
PRODID:-//Granite Falls Sportsmen&#039;s Club - ECPv6.5.0.1//NONSGML v1.0//EN
CALSCALE:GREGORIAN
METHOD:PUBLISH
X-ORIGINAL-URL:https://granitefallsgunclub.com
X-WR-CALDESC:Events for Granite Falls Sportsmen&#039;s Club
REFRESH-INTERVAL;VALUE=DURATION:PT1H
X-Robots-Tag:noindex
X-PUBLISHED-TTL:PT1H
BEGIN:VTIMEZONE
TZID:UTC
BEGIN:STANDARD
TZOFFSETFROM:+0000
TZOFFSETTO:+0000
TZNAME:UTC
DTSTART:20250101T000000
END:STANDARD
END:VTIMEZONE
BEGIN:VEVENT
DTSTART;TZID=UTC:20250404T190000
DTEND;TZID=UTC:20250404T220000
DTSTAMP:20260422T122806
CREATED:20250318T131407Z
LAST-MODIFIED:20250318T131407Z
UID:389-1743793200-1743804000@granitefallsgunclub.com
SUMMARY:Friday Night Trap and 5 Stand!
DESCRIPTION:
URL:https://granitefallsgunclub.com/event/friday-night-trap-and-5-stand-3/
LOCATION:Granite Falls Sportsmen’s Club\, 20319 Gun Club Rd\, Granite Falls\, WA\, 98252\, United States
END:VEVENT
BEGIN:VEVENT
DTSTART;TZID=UTC:20250405T100000
DTEND;TZID=UTC:20250405T150000
DTSTAMP:20260422T122806
CREATED:20250318T223252Z
LAST-MODIFIED:20250319T021308Z
UID:403-1743847200-1743865200@granitefallsgunclub.com
SUMMARY:Trap Fields and Sporting Clays open to Public and Members
DESCRIPTION:Trap Fields and Sporting Clays open to Public and Members
URL:https://granitefallsgunclub.com/event/trap-fields-and-sporting-clays-open-to-public-and-members/
LOCATION:Granite Falls Sportsmen’s Club\, 20319 Gun Club Rd\, Granite Falls\, WA\, 98252\, United States
END:VEVENT
BEGIN:VEVENT
DTSTART;TZID=UTC:20250411T190000
DTEND;TZID=UTC:20250411T220000
DTSTAMP:20260422T122806
CREATED:20250318T131535Z
LAST-MODIFIED:20250318T223707Z
UID:391-1744398000-1744408800@granitefallsgunclub.com
SUMMARY:Friday Night Trap & 5 Stand!
DESCRIPTION:
URL:https://granitefallsgunclub.com/event/391/
LOCATION:Granite Falls Sportsmen’s Club\, 20319 Gun Club Rd\, Granite Falls\, WA\, 98252\, United States
END:VEVENT
BEGIN:VEVENT
DTSTART;TZID=UTC:20250412T100000
DTEND;TZID=UTC:20250412T150000
DTSTAMP:20260422T122806
CREATED:20250319T011653Z
LAST-MODIFIED:20250319T011653Z
UID:407-1744452000-1744470000@granitefallsgunclub.com
SUMMARY:Trap Fields and Sporting Clays open to Public and Members
DESCRIPTION:Trap Fields and Sporting Clays open to Public and Members \n 
URL:https://granitefallsgunclub.com/event/trap-fields-and-sporting-clays-open-to-public-and-members-2/
LOCATION:Granite Falls Sportsmen’s Club\, 20319 Gun Club Rd\, Granite Falls\, WA\, 98252\, United States
END:VEVENT
BEGIN:VEVENT
DTSTART;VALUE=DATE:20250413
DTEND;VALUE=DATE:20250419
DTSTAMP:20260422T122806
CREATED:20250314T201614Z
LAST-MODIFIED:20250314T201838Z
UID:307-1744502400-1745020799@granitefallsgunclub.com
SUMMARY:Sporting Clays Closed for Reset & Maintenance
DESCRIPTION:Come out and join us Saturday for the NSCA event. \n*This is a change to our normal rotation due to the Easter Holiday on Sunday.
URL:https://granitefallsgunclub.com/event/sporting-clays-closed-for-reset-maintenance-2/
LOCATION:WA
END:VEVENT
BEGIN:VEVENT
DTSTART;TZID=UTC:20250413T090000
DTEND;TZID=UTC:20250413T150000
DTSTAMP:20260422T122806
CREATED:20250302T034039Z
LAST-MODIFIED:20250314T200346Z
UID:258-1744534800-1744556400@granitefallsgunclub.com
SUMMARY:🥓Spring Turkey (Meat) Shoot 2025🐖
DESCRIPTION:🐖 Spring Turkey (Meat) Shoot 🥓 \n Annual Community Event- \nFun for all ages! \nCome try your skills with a shotgun\, hitting the elusive clay target- \nGuaranteed Prize Tickets- $35 \n Bacon prizes \nBingo* Splatter Boards* \nLunch options are available \nEvent starts at 10 am\, doors open at 9 am \nGood times will be had by all! \n 
URL:https://granitefallsgunclub.com/event/%f0%9f%a5%93spring-turkey-meat-shoot-2025%f0%9f%90%96/
LOCATION:Granite Falls Sportsmen’s Club\, 20319 Gun Club Rd\, Granite Falls\, WA\, 98252\, United States
END:VEVENT
BEGIN:VEVENT
DTSTART;TZID=UTC:20250418T190000
DTEND;TZID=UTC:20250418T220000
DTSTAMP:20260422T122806
CREATED:20250319T012652Z
LAST-MODIFIED:20250319T012652Z
UID:411-1745002800-1745013600@granitefallsgunclub.com
SUMMARY:Friday Night Trap & 5 Stand!
DESCRIPTION:Open to the public and members.
URL:https://granitefallsgunclub.com/event/friday-night-trap-5-stand/
LOCATION:Granite Falls Sportsmen’s Club\, 20319 Gun Club Rd\, Granite Falls\, WA\, 98252\, United States
END:VEVENT
BEGIN:VEVENT
DTSTART;TZID=UTC:20250419T090000
DTEND;TZID=UTC:20250419T150000
DTSTAMP:20260422T122806
CREATED:20250302T041628Z
LAST-MODIFIED:20250314T202239Z
UID:267-1745053200-1745074800@granitefallsgunclub.com
SUMMARY:NSCA Registered Shoot – April 2025
DESCRIPTION:NSCA Registered Shoot- April \n100 Target Sporting Clays – ($50) \n*5-Stand Open at 9am for morning warm up. \nSign up starts at 9am- Event starts at 10am.
URL:https://granitefallsgunclub.com/event/nsca-registered-shoot-april-2025/
LOCATION:Granite Falls Sportsmen’s Club\, 20319 Gun Club Rd\, Granite Falls\, WA\, 98252\, United States
END:VEVENT
BEGIN:VEVENT
DTSTART;TZID=UTC:20250419T100000
DTEND;TZID=UTC:20250419T150000
DTSTAMP:20260422T122806
CREATED:20250319T012022Z
LAST-MODIFIED:20250319T012022Z
UID:409-1745056800-1745074800@granitefallsgunclub.com
SUMMARY:Trap Fields open to Public & Members
DESCRIPTION:Trap Fields open to Public & Members
URL:https://granitefallsgunclub.com/event/trap-fields-open-to-public-members/
LOCATION:Granite Falls Sportsmen’s Club\, 20319 Gun Club Rd\, Granite Falls\, WA\, 98252\, United States
END:VEVENT
BEGIN:VEVENT
DTSTART;VALUE=DATE:20250420
DTEND;VALUE=DATE:20250421
DTSTAMP:20260422T122806
CREATED:20250302T034924Z
LAST-MODIFIED:20250302T034924Z
UID:261-1745107200-1745193599@granitefallsgunclub.com
SUMMARY:Happy Easter 🐰🐣
DESCRIPTION:
URL:https://granitefallsgunclub.com/event/happy-easter-%f0%9f%90%b0%f0%9f%90%a3/
LOCATION:WA
END:VEVENT
BEGIN:VEVENT
DTSTART;TZID=UTC:20250425T190000
DTEND;TZID=UTC:20250425T220000
DTSTAMP:20260422T122806
CREATED:20250319T012825Z
LAST-MODIFIED:20250319T020955Z
UID:413-1745607600-1745618400@granitefallsgunclub.com
SUMMARY:Friday Night Trap & 5-Stand!
DESCRIPTION:Open to the public and members.
URL:https://granitefallsgunclub.com/event/friday-night-trap-5-stand-2/
LOCATION:Granite Falls Sportsmen’s Club\, 20319 Gun Club Rd\, Granite Falls\, WA\, 98252\, United States
END:VEVENT
BEGIN:VEVENT
DTSTART;TZID=UTC:20250426T100000
DTEND;TZID=UTC:20250426T150000
DTSTAMP:20260422T122806
CREATED:20250319T020224Z
LAST-MODIFIED:20250319T020224Z
UID:439-1745661600-1745679600@granitefallsgunclub.com
SUMMARY:Trap Fields and Sporting Clays Open to Public & Members
DESCRIPTION:Trap Fields and Sporting Clays Open to Public & Members
URL:https://granitefallsgunclub.com/event/trap-fields-and-sporting-clays-open-to-public-members-6/
LOCATION:Granite Falls Sportsmen’s Club\, 20319 Gun Club Rd\, Granite Falls\, WA\, 98252\, United States
END:VEVENT
END:VCALENDAR